BEGIN:VCALENDAR
VERSION:2.0
PRODID:-//Eutonie Conscience du Corps//NONSGML kigkonsult.se iCalcreator 2.41.92//
CALSCALE:GREGORIAN
METHOD:PUBLISH
UID:66396661-6665-4039-a166-653234383166
X-WR-CALNAME:iCagenda
X-WR-CALDESC:Event Management Extension for Joomla!
X-WR-RELCALID:3E26604A-50F4-4449-8B3E-E4F4932D05B5
X-WR-TIMEZONE:UTC
BEGIN:VTIMEZONE
TZID:UTC
END:VTIMEZONE
BEGIN:VEVENT
UID:64376632-3763-4831-b165-363364323633
DTSTAMP:20260425T151200Z
CATEGORIES:FORMATION CONTINUE
CLASS:PUBLIC
DESCRIPTION;ALTREP="CID:<FFFF__=0ABBE548DFE235B58f9e8a93d@coffeebean.com>":
 Analyse des pratiques s’appuyant sur l’eutonie comme médiation\nTélécharge
 r : le Programme de Formation continue Eutonie en pdf\n{loadmoduleid 110}
 \n&nbsp\;\nRenseignements et inscriptions : Jeany Didouan et Josépha Marti
 nez Dates : 25/09/2022 \; 04/12/2022 \; 15/01/2023 \; 05/03/2023 \; 16/04/
 2023 \; 14/05/2023 : 25/06/2023\nHoraires : 9h00 à 11h30Lieu : en distanci
 el par audio-conférence OVH\, et visio-conférence Zoom\n{loadmoduleid 151}
 \n{loadmoduleid 152}
DTSTART:20220925T000000Z
DTEND:20220925T000000Z
GEO:00;0
LOCATION:Audio et visio-conférences
ORGANIZER:
SEQUENCE:1
SUMMARY:Septembre 2022 à Juin 2023 - Dimanches matins à distance
TRANSP:OPAQUE
URL:https://eutonie-conscienceducorps.com/index.php/calendrier/114-septembr
 e-2022-a-juin-2023-dimanches-matins-a-distance/2022-09-25-00-00
END:VEVENT
END:VCALENDAR
