BEGIN:VCALENDAR
VERSION:2.0
PRODID:-//Eutonie Conscience du Corps//NONSGML kigkonsult.se iCalcreator 2.41.92//
CALSCALE:GREGORIAN
METHOD:PUBLISH
UID:33393131-3835-4034-b031-353639656330
X-WR-CALNAME:iCagenda
X-WR-CALDESC:Event Management Extension for Joomla!
X-WR-RELCALID:3E26604A-50F4-4449-8B3E-E4F4932D05B5
X-WR-TIMEZONE:UTC
BEGIN:VTIMEZONE
TZID:UTC
END:VTIMEZONE
BEGIN:VEVENT
UID:34613938-6133-4365-b331-396636633165
DTSTAMP:20260425T150239Z
CATEGORIES:FORMATION CONTINUE
CLASS:PUBLIC
DESCRIPTION;ALTREP="CID:<FFFF__=0ABBE548DFE235B58f9e8a93d@coffeebean.com>":
 Analyse des pratiques s’appuyant sur l’eutonie comme médiation\nTélécharge
 r : le Programme de Formation continue Eutonie en pdf\n{loadmoduleid 110}
 \n&nbsp\;\nRenseignements et inscriptions : Jeany Didouan et Josépha Marti
 nez Date : 30 avril au 4 mai 2025\n&nbsp\;\nHoraires : 9h30 à 18h30 (premi
 er jour : début à 10h00 / dernier jour fin à 13h00) Lieu : Pénélopé Maison
  du Bien-Être à Pinel-Hauterive&nbsp\; (Lot-et-Garonne)\n{loadmoduleid 151
 }\n{loadmoduleid 152}
DTSTART:20250430T100000Z
DTEND:20250504T140000Z
GEO:00;0
LOCATION:Pénélopé Maison du Bien-Etre  - Pinel-Hauterive (47)
ORGANIZER:
SEQUENCE:1
SUMMARY:30 avril au 4 mai 2025
TRANSP:OPAQUE
URL:https://eutonie-conscienceducorps.com/index.php/calendrier/175-30-avril
 -au-4-mai-2025
END:VEVENT
END:VCALENDAR
