BEGIN:VCALENDAR
VERSION:2.0
PRODID:-//Eutonie Conscience du Corps//NONSGML kigkonsult.se iCalcreator 2.41.92//
CALSCALE:GREGORIAN
METHOD:PUBLISH
UID:39643461-3730-4964-b564-353961356661
X-WR-CALNAME:iCagenda
X-WR-CALDESC:Event Management Extension for Joomla!
X-WR-RELCALID:3E26604A-50F4-4449-8B3E-E4F4932D05B5
X-WR-TIMEZONE:UTC
BEGIN:VTIMEZONE
TZID:UTC
END:VTIMEZONE
BEGIN:VEVENT
UID:63343735-6665-4164-b136-336538356366
DTSTAMP:20260425T151436Z
CATEGORIES:FORMATION CONTINUE
CLASS:PUBLIC
DESCRIPTION;ALTREP="CID:<FFFF__=0ABBE548DFE235B58f9e8a93d@coffeebean.com>":
 Analyse des pratiques s’appuyant sur l’eutonie comme médiation\nOuvert aux
  détenteurs d’un diplôme d’Eutonie\, ou certifiés du 1er degré de compéten
 ce en Eutonie\, ainsi qu’aux personnes souhaitant utiliser les principes d
 e 'Eutonie dans leur champ professionnel : personnels soignants\,&nbsp\;pe
 rsonnels de l'éducation\, psychomotriciens\, professeurs\, éducateurs\, ar
 tistes\, sportifs\, etc.\nLes pratiquants d'Eutonie non professionnels int
 éressés à la pédagogie de l'Eutonie et les principes de transmission peuve
 nt également participer à tout ou partie du stage.\nTélécharger : le Progr
 amme de Formation continue Eutonie en pdf\nLe programme peut être adapté e
 n fonction des besoins et du niveau des participants\n{loadmoduleid 110}\n
 Date : 29 avril au 3 mai 2026\nThème : le bassin\nHoraires : 9h30 à 18h30 
 (premier jour : début à 10h00 / dernier jour fin à 14h00) Lieu : Pénélopé 
 Maison du Bien-Être à Pinel-Hauterive&nbsp\; (Lot-et-Garonne)\nRenseigneme
 nts et inscriptions : Jeany Didouan et Josépha Martinez\n{loadmoduleid 151
 }\n{loadmoduleid 152}
DTSTART:20260429T100000Z
DTEND:20260503T140000Z
GEO:00;0
LOCATION:Pénélopé Maison du Bien-Etre  - Pinel-Hauterive (47)
ORGANIZER:
SEQUENCE:1
SUMMARY:29 avril au 3 mai 2026 - Analyse des pratiques s’appuyant sur l’eut
 onie comme médiation
TRANSP:OPAQUE
URL:https://eutonie-conscienceducorps.com/index.php/calendrier/196-29-avril
 -au-3-mai-2026-analyse-des-pratiques-sappuyant-sur-leutonie-comme-mediatio
 n
END:VEVENT
END:VCALENDAR
